BEGIN:VCALENDAR
VERSION:2.0
PRODID:-//Casa Foresta - ECPv6.15.20//NONSGML v1.0//EN
CALSCALE:GREGORIAN
METHOD:PUBLISH
X-ORIGINAL-URL:https://casaforesta.nl
X-WR-CALDESC:Evenementen voor Casa Foresta
REFRESH-INTERVAL;VALUE=DURATION:PT1H
X-Robots-Tag:noindex
X-PUBLISHED-TTL:PT1H
BEGIN:VTIMEZONE
TZID:UTC
BEGIN:STANDARD
TZOFFSETFROM:+0000
TZOFFSETTO:+0000
TZNAME:UTC
DTSTART:20250101T000000
END:STANDARD
END:VTIMEZONE
BEGIN:VEVENT
DTSTART;TZID=UTC:20260301T100000
DTEND;TZID=UTC:20260301T153000
DTSTAMP:20260424T232516
CREATED:20230423T092359Z
LAST-MODIFIED:20251026T155838Z
UID:1810-1772359200-1772379000@casaforesta.nl
SUMMARY:Wildplukken op Sterren Niveau
DESCRIPTION:Ik pluk al jaren wilde kruiden\, bloemen\, bessen en paddenstoelen voor sterrenchefs zoals Bas van Kranen van Flore \, Joris Bijdendijk (Rijks) en vele anderen. Graag deel ik mijn kennis van o.a. de producten die ik voor deze topchefs pluk. \nGa je mee daslook plukken? Deze plant prijkt steeds vaker op de menukaart.. En welke prachtige bloemen blijken gewoon eetbaar? Fantastisch kleurrijk op je bord\, een lust voor oog en mond. Welke plant geeft dat bittertje\, dat zoetje? Verrassend; een plantje dat smaakt naar een Granny Smith\, of naar wasabi. De natuur geeft ons zoveel mooie producten om mee te werken! \nWat is er in het seizoen? Welke eetbare planten neem je mee naar je keuken om er heerlijke gerechten mee te maken? Hoe maak je een siroop van..? Hoe prepareer je je gevonden planten\, knoppen en wortels? Welke boeken zijn het beste voor het determineren?\nWat zijn de gevaren? \nEerst maken we een prachtige wandeling\, en gaan we op zoek naar culinaire wildpluk die sterrenchefs gebruiken. Bijvoorbeeld mooie waterkers\, bijzondere dennennaalden of klaverzuring. Vervolgens gaan we ergens op een mooi plekje lunchen onder het genot van een goed glas wijn\, een biertje of fris. Laat je smaakpapillen op scherp zetten in deze verrassende workshop van in totaal minimaal 5 uur. \nWaar: Sonsbeekpark in Arnhem\nKosten: €99\,-
URL:https://casaforesta.nl/workshop/wildplukken-op-sterren-niveau
LOCATION:Ressen\, 't Laantje 6\, Ressen\, Gelderland\, Nederland
ATTACH;FMTTYPE=image/png:https://casaforesta.nl/wp-content/uploads/2018/02/Wildplukken.png
ORGANIZER;CN="Edwin Flores":MAILTO:info@casaforesta.nl
GEO:51.8924782;5.8684673
X-APPLE-STRUCTURED-LOCATION;VALUE=URI;X-ADDRESS=Ressen 't Laantje 6 Ressen Gelderland Nederland;X-APPLE-RADIUS=500;X-TITLE='t Laantje 6:geo:5.8684673,51.8924782
END:VEVENT
BEGIN:VEVENT
DTSTART;TZID=UTC:20260315T100000
DTEND;TZID=UTC:20260315T153000
DTSTAMP:20260424T232516
CREATED:20230508T200134Z
LAST-MODIFIED:20251026T154325Z
UID:1876-1773568800-1773588600@casaforesta.nl
SUMMARY:Wildplukken op Sterren Niveau
DESCRIPTION:Ik pluk al jaren wilde kruiden\, bloemen\, bessen en paddenstoelen voor sterrenchefs zoals Bas van Kranen van Flore\, Joris Bijdendijk (Rijks) en vele anderen. Graag deel ik mijn kennis van o.a. de producten die ik voor deze topchefs pluk. \nGa je mee daslook plukken? Deze plant prijkt steeds vaker op de menukaart.. En welke prachtige bloemen blijken gewoon eetbaar? Fantastisch kleurrijk op je bord\, een lust voor oog en mond. Welke plant geeft dat bittertje\, dat zoetje? Verrassend; een plantje dat smaakt naar een Granny Smith\, of naar wasabi. De natuur geeft ons zoveel mooie producten om mee te werken! \nWat is er in het seizoen? Welke eetbare planten neem je mee naar je keuken om er heerlijke gerechten mee te maken? Hoe maak je een siroop van..? Hoe prepareer je je gevonden planten\, knoppen en wortels? Welke boeken zijn het beste voor het determineren?\nWat zijn de gevaren? \nEerst maken we een prachtige wandeling\, en gaan we op zoek naar culinaire wildpluk die sterrenchefs gebruiken. Bijvoorbeeld mooie waterkers\, bijzondere dennennaalden of klaverzuring. Vervolgens gaan we ergens op een mooi plekje lunchen onder het genot van een goed glas wijn\, een biertje of fris. Laat je smaakpapillen op scherp zetten in deze verrassende workshop van in totaal minimaal 5 uur. \nWaar: Sonsbeekpark in Arnhem\nKosten: €99\,-
URL:https://casaforesta.nl/workshop/wildplukken-op-sterren-niveau-3
LOCATION:Ressen\, 't Laantje 6\, Ressen\, Gelderland\, Nederland
ATTACH;FMTTYPE=image/png:https://casaforesta.nl/wp-content/uploads/2018/02/Wildplukken.png
ORGANIZER;CN="Edwin Flores":MAILTO:info@casaforesta.nl
GEO:51.8924782;5.8684673
X-APPLE-STRUCTURED-LOCATION;VALUE=URI;X-ADDRESS=Ressen 't Laantje 6 Ressen Gelderland Nederland;X-APPLE-RADIUS=500;X-TITLE='t Laantje 6:geo:5.8684673,51.8924782
END:VEVENT
BEGIN:VEVENT
DTSTART;TZID=UTC:20260322T100000
DTEND;TZID=UTC:20260322T160000
DTSTAMP:20260424T232516
CREATED:20230914T070229Z
LAST-MODIFIED:20251026T160118Z
UID:2248-1774173600-1774195200@casaforesta.nl
SUMMARY:Wildplukken op Sterren Niveau
DESCRIPTION:Ik pluk al jaren wilde kruiden\, bloemen\, bessen en paddenstoelen voor sterrenchefs zoals Jonnie Boer van de Librije \, Joris Bijdendijk (Rijks) en vele anderen. Graag deel ik mijn kennis van o.a. de producten die ik voor deze topchefs pluk. \nGa je mee daslook plukken? Deze plant prijkt steeds vaker op de menukaart.. En welke prachtige bloemen blijken gewoon eetbaar? Fantastisch kleurrijk op je bord\, een lust voor oog en mond. Welke plant geeft dat bittertje\, dat zoetje? Verrassend; een plantje dat smaakt naar een Granny Smith\, of naar wasabi. De natuur geeft ons zoveel mooie producten om mee te werken! \nWat is er in het seizoen? Welke eetbare planten neem je mee naar je keuken om er heerlijke gerechten mee te maken? Hoe maak je een siroop van..? Hoe prepareer je je gevonden planten\, knoppen en wortels? Welke boeken zijn het beste voor het determineren?\nWat zijn de gevaren? \nEerst maken we een prachtige wandeling\, en gaan we op zoek naar culinaire wildpluk die sterrenchefs gebruiken. Bijvoorbeeld mooie waterkers\, bijzondere dennennaalden of klaverzuring. Vervolgens gaan we ergens op een mooi plekje lunchen onder het genot van een goed glas wijn\, een biertje of fris. Laat je smaakpapillen op scherp zetten in deze verrassende workshop van in totaal minimaal 5 uur. \nWaar: Sonsbeekpark in Arnhem\nKosten: €99\,-
URL:https://casaforesta.nl/workshop/wildplukken-op-sterren-niveau-7
LOCATION:Ressen\, 't Laantje 6\, Ressen\, Gelderland\, Nederland
ATTACH;FMTTYPE=image/png:https://casaforesta.nl/wp-content/uploads/2018/02/Wildplukken.png
ORGANIZER;CN="Edwin Flores":MAILTO:info@casaforesta.nl
GEO:51.8924782;5.8684673
X-APPLE-STRUCTURED-LOCATION;VALUE=URI;X-ADDRESS=Ressen 't Laantje 6 Ressen Gelderland Nederland;X-APPLE-RADIUS=500;X-TITLE='t Laantje 6:geo:5.8684673,51.8924782
END:VEVENT
BEGIN:VEVENT
DTSTART;TZID=UTC:20260329T100000
DTEND;TZID=UTC:20260329T150000
DTSTAMP:20260424T232516
CREATED:20250227T094358Z
LAST-MODIFIED:20251026T154057Z
UID:3562-1774778400-1774796400@casaforesta.nl
SUMMARY:Zeewier\, Schelp- en Schaaldieren
DESCRIPTION:Tijdstip begin is afhankelijk van het getij dus het kan later starten \nAan zee\, flesje cider in de hand of een andere limonade\, zeevruchten\, zeewieren\, een briesje en hopelijk een zonnetje!  Ga je mee…? \nHet is in veel landen doodnormaal om dagelijks een portie zeewier te happen. De Japanners zijn er zelfs kampioen in. Japanners consumeren de meeste zeewier van alle volkeren op aarde en hebben de hoogste levensverwachting. Dit komt niet alleen door het eten van zeegroenten. Japanners eten ook veel meer vis en soja\, veel minder vet en ze zijn een stuk magerder dan de gemiddelde Nederlander. Maar zeewier draagt zeker haar steentje bij aan hun gezondheid. Zo hebben oudere Japanners beduidend minder rimpels (voor de ijdeltuiten onder ons). \nDaarnaast zitten zeewieren boordevol gezonde stoffen als vitamines\, mineralen\, ijzer\, jodium en ga zo maar door! Super gezond dus! \nWe behandelen veel onderdelen zoals: \n\nwat zijn wieren?\nzeewier en consumptie\nschelp- en schaaldieren uit Zeeland\n\nWe gaan ook een kijkje nemen naar de verschillende schelp- en schaaldieren. En naar wat je er vervolgens mee kunt doen. Je eigen krabben vangen en dan..? Je eigen wier plukken en dan…? Nooit meer zonder emmer en schaar naar het strand\, want op de kribben\, pieren en andere zeeweringen groeien de lekkerste wieren en vang je heerlijke krabben. \nZoals bij elke workshop van Casa Foresta is er een biertje voor iedere hunter\, witte wijn voor de wijnliefhebbers en een vuurtje voor pyromaan in ons! \nPlaats: rond Yerseke\nTijd: afhankelijk van de eb/vloed kalender\nKosten: € 99\,- inclusief een warme maaltijd\nHoe lang? Minimaal 5 uur
URL:https://casaforesta.nl/workshop/zeewier-schelp-en-schaaldieren-6
LOCATION:Yerseke\, Yerseke\, Nederland
ATTACH;FMTTYPE=image/png:https://casaforesta.nl/wp-content/uploads/2018/02/Zeewier-schelp-schaaldier.png
ORGANIZER;CN="Edwin Flores":MAILTO:info@casaforesta.nl
GEO:51.4929292;4.0486617
END:VEVENT
END:VCALENDAR