BEGIN:VCALENDAR
VERSION:2.0
PRODID:-//Casa Foresta - ECPv6.15.20//NONSGML v1.0//EN
CALSCALE:GREGORIAN
METHOD:PUBLISH
X-ORIGINAL-URL:https://casaforesta.nl
X-WR-CALDESC:Evenementen voor Casa Foresta
REFRESH-INTERVAL;VALUE=DURATION:PT1H
X-Robots-Tag:noindex
X-PUBLISHED-TTL:PT1H
BEGIN:VTIMEZONE
TZID:UTC
BEGIN:STANDARD
TZOFFSETFROM:+0000
TZOFFSETTO:+0000
TZNAME:UTC
DTSTART:20240101T000000
END:STANDARD
END:VTIMEZONE
BEGIN:VEVENT
DTSTART;TZID=UTC:20250405T100000
DTEND;TZID=UTC:20250405T160000
DTSTAMP:20260426T023914
CREATED:20240117T131505Z
LAST-MODIFIED:20241218T064317Z
UID:1889-1743847200-1743868800@casaforesta.nl
SUMMARY:Wildpluk&Eetbare Paddenstoelen
DESCRIPTION:Combi Wildpluk & Paddenstoelen zoeken\n \nEen prachtige combinatie wandeling van eetbare wildpluk en wilde paddenstoelen! \nIeder seizoen geeft zijn eigen prachtige eetbare\, smakelijke paddenstoelen. Hun namen spreken tot onze verbeelding. Zo geeft het voorjaar ons morieljes\, terwijl je in de zomer misschien eekhoorntjesbrood kunt vinden. En in de herfst\, en in de winter\, kun je op zoek naar oesterzwammen\, fluweelpootjes en soms zelfs de witte kluifzwam. \nWij nemen je mee op ontdekkingstocht naar paddenstoelen en leren je de fijne kneepjes van het determineren. We maken een prachtige wandeling door verschillende landschappen en komen op bijzondere locaties. Het is een geruisloze jacht\, waarbij het niet gaat om de kilo’s paddenstoelen\, maar om de kennisoverdracht en de beleving. \nWat je leert:\n▪ het landschap lezen\, zodat je weet welke wildpluk je waar kunt verwachten\n▪ hoe determineer je paddenstoelen?\n▪ waar vind je ze?\n▪ wat zijn de gevaren\, wat de fabeltjes?\n▪ waarom is het best wel eenvoudig? \nLeer het allemaal tijdens deze prachtige workshop van ongeveer 5 tot 6 uur. Na afloop kun je minstens vijf eetbare paddenstoelen determineren\, en weet je wanneer en waar je ze kunt vinden. Ik vertel tijdens de hunt alles over het lezen van het landschap\, wat je waar kan verwachten aan eetbare zaken uit de natuur. Dat gaat verder dan alleen paddenstoelen; denk aan eetbare planten\, noten en vruchten. Een heerlijke maaltijd is inbegrepen\, een bijzondere ervaring onder het genot van een biertje\, wijn of fris. Laat je verrassen! \nWaar: Arnhem\nKosten: €99\,-
URL:https://casaforesta.nl/workshop/wildplukeetbare-paddenstoelen-6
LOCATION:Ressen\, 't Laantje 6\, Ressen\, Gelderland\, Nederland
ATTACH;FMTTYPE=image/png:https://casaforesta.nl/wp-content/uploads/2018/02/Paddenstoelen-zoeken.png
ORGANIZER;CN="Edwin Flores":MAILTO:info@casaforesta.nl
GEO:51.8924782;5.8684673
X-APPLE-STRUCTURED-LOCATION;VALUE=URI;X-ADDRESS=Ressen 't Laantje 6 Ressen Gelderland Nederland;X-APPLE-RADIUS=500;X-TITLE='t Laantje 6:geo:5.8684673,51.8924782
END:VEVENT
BEGIN:VEVENT
DTSTART;TZID=UTC:20250426T100000
DTEND;TZID=UTC:20250426T160000
DTSTAMP:20260426T023914
CREATED:20180224T143716Z
LAST-MODIFIED:20241219T025027Z
UID:1236-1745661600-1745683200@casaforesta.nl
SUMMARY:Vegan Koken & Wildplukken
DESCRIPTION:Vegan koken uit de Moestuin inclusief Wildplukken de ideale combinatie\, kom genieten van de tuinderij en al het lekkers wat we aanbieden.! \nIk pluk al zolang ik leef wilde kruiden\, bloemen\, bessen en paddenstoelen. Ik schrijf erover in mijn boeken\, columns en voor de online jaaropleiding. Graag deel ik mijn kennis met jullie  Samen willen we onze kennis van koken met wilde kruiden en vegan koken vers uit de moestuin met jullie delen. \nEn geheel VEGAN.! En wat is dat super leuk! Allemaal vers uit de natuur\, vers uit de moestuin. Beter\, Verser\, Gezonder en natuurlijker kan het bijna niet. \nDoe je mee en vooral ga je mee plukken? Welke planten zijn er in het seizoen en hoe smaken ze in het wild en uit de moestuin? En welke prachtige bloemen blijken gewoon eetbaar? Fantastisch kleurrijk op je bord\, een lust voor oog en mond. Welke plant geeft dat bittertje\, dat zoetje? Verrassend; een plantje dat smaakt naar een Granny Smith\, of naar wasabi. De natuur geeft ons zoveel mooie producten om mee te werken! \nWat is er in het seizoen? Welke eetbare planten neem je mee naar je keuken om er heerlijke gerechten mee te maken? Hoe maak je een siroop van..? Hoe prepareer je je gevonden of geteelde planten\, knoppen en wortels? \nEerst maken we een prachtige wandeling\, en gaan we op zoek naar culinaire wildpluk die sterrenchefs gebruiken. Bijvoorbeeld mooie waterkers\, bijzondere dennennaalden of klaverzuring. Vervolgens duiken we de moestuin in om een handsalade te plukken en heel veel ander lekkers! \nEn dan steken we de handen uit de mouwen met alle mooie producten uit de moestuin en wildpluk. We gaan samen koken en maken bijzondere creaties! \nLaat je smaakpapillen op scherp zetten in deze verrassende workshop. \nWaar: Ressen tussen Arnhem en Nijmegen in\nKosten: €99\,-
URL:https://casaforesta.nl/workshop/wildplukken-op-sterrenniveau-2018-11-04-5-2-2-2-2-2-2-2-2-2-2-2-2-2-3-2-3-2
LOCATION:Ressen\, 't Laantje 6\, Ressen\, Gelderland\, Nederland
ATTACH;FMTTYPE=image/png:https://casaforesta.nl/wp-content/uploads/2023/01/vegan-koken-en-wildplukken-RGB.png
ORGANIZER;CN="Edwin Flores":MAILTO:info@casaforesta.nl
GEO:51.8924782;5.8684673
X-APPLE-STRUCTURED-LOCATION;VALUE=URI;X-ADDRESS=Ressen 't Laantje 6 Ressen Gelderland Nederland;X-APPLE-RADIUS=500;X-TITLE='t Laantje 6:geo:5.8684673,51.8924782
END:VEVENT
END:VCALENDAR