BEGIN:VCALENDAR
VERSION:2.0
PRODID:-//Casa Foresta - ECPv6.15.20//NONSGML v1.0//EN
CALSCALE:GREGORIAN
METHOD:PUBLISH
X-ORIGINAL-URL:https://casaforesta.nl
X-WR-CALDESC:Evenementen voor Casa Foresta
REFRESH-INTERVAL;VALUE=DURATION:PT1H
X-Robots-Tag:noindex
X-PUBLISHED-TTL:PT1H
BEGIN:VTIMEZONE
TZID:UTC
BEGIN:STANDARD
TZOFFSETFROM:+0000
TZOFFSETTO:+0000
TZNAME:UTC
DTSTART:20240101T000000
END:STANDARD
END:VTIMEZONE
BEGIN:VEVENT
DTSTART;TZID=UTC:20250202T093000
DTEND;TZID=UTC:20250202T150000
DTSTAMP:20260426T062200
CREATED:20240523T083732Z
LAST-MODIFIED:20241219T025522Z
UID:2932-1738488600-1738508400@casaforesta.nl
SUMMARY:Wildpluk&Eetbare Paddenstoelen=VOL
DESCRIPTION:Combi Wildpluk & Paddenstoelen zoeken = VOL\n \nEen prachtige combinatie wandeling van eetbare wildpluk en wilde paddenstoelen! \nIeder seizoen geeft zijn eigen prachtige eetbare\, smakelijke paddenstoelen. Hun namen spreken tot onze verbeelding. Zo geeft het voorjaar ons morieljes\, terwijl je in de zomer misschien eekhoorntjesbrood kunt vinden. En in de herfst\, en in de winter\, kun je op zoek naar oesterzwammen\, fluweelpootjes en soms zelfs de witte kluifzwam. \nWij nemen je mee op ontdekkingstocht naar paddenstoelen en leren je de fijne kneepjes van het determineren. We maken een prachtige wandeling door verschillende landschappen en komen op bijzondere locaties. Het is een geruisloze jacht\, waarbij het niet gaat om de kilo’s paddenstoelen\, maar om de kennisoverdracht en de beleving. \nWat je leert:\n▪ het landschap lezen\, zodat je weet welke wildpluk je waar kunt verwachten\n▪ hoe determineer je paddenstoelen?\n▪ waar vind je ze?\n▪ wat zijn de gevaren\, wat de fabeltjes?\n▪ waarom is het best wel eenvoudig? \nLeer het allemaal tijdens deze prachtige workshop van ongeveer 5 tot 6 uur. Na afloop kun je minstens vijf eetbare paddenstoelen determineren\, en weet je wanneer en waar je ze kunt vinden. Ik vertel tijdens de hunt alles over het lezen van het landschap\, wat je waar kan verwachten aan eetbare zaken uit de natuur. Dat gaat verder dan alleen paddenstoelen; denk aan eetbare planten\, noten en vruchten. Een heerlijke maaltijd is inbegrepen\, een bijzondere ervaring onder het genot van een biertje\, wijn of fris. Laat je verrassen! \nWaar: Arnhem\nKosten: €99\,-
URL:https://casaforesta.nl/workshop/wildplukeetbare-paddenstoelen-14
LOCATION:Ressen\, 't Laantje 6\, Ressen\, Gelderland\, Nederland
ATTACH;FMTTYPE=image/png:https://casaforesta.nl/wp-content/uploads/2018/02/Paddenstoelen-zoeken.png
ORGANIZER;CN="Edwin Flores":MAILTO:info@casaforesta.nl
GEO:51.8924782;5.8684673
X-APPLE-STRUCTURED-LOCATION;VALUE=URI;X-ADDRESS=Ressen 't Laantje 6 Ressen Gelderland Nederland;X-APPLE-RADIUS=500;X-TITLE='t Laantje 6:geo:5.8684673,51.8924782
END:VEVENT
BEGIN:VEVENT
DTSTART;TZID=UTC:20250208T100000
DTEND;TZID=UTC:20250208T160000
DTSTAMP:20260426T062200
CREATED:20180224T143716Z
LAST-MODIFIED:20241118T090403Z
UID:1203-1739008800-1739030400@casaforesta.nl
SUMMARY:Wildplukken op Sterrenniveau
DESCRIPTION:We plukken al jaren wilde kruiden\, bloemen\, bessen en paddenstoelen voor sterrenchefs. We hebben er zelfs al 6 boeken over geschreven! Graag delen wij onze kennis van o.a. de producten die we voor deze topchefs plukken. \nWat is er in het seizoen? Welke eetbare planten neem je mee naar je keuken om er heerlijke gerechten mee te maken? Hoe maak je een siroop van..? Hoe prepareer je je gevonden planten\, knoppen en wortels? Welke boeken zijn het beste voor het determineren?\nWat zijn de gevaren? \nLaat je inspireren in een mooie dag buiten spelen! \nWe nemen jullie graag mee op een prachtige wandeling\, en we gaan met jullie opzoek naar heerlijke producten die ook door sterrenchefs gebruikt worden. Bijvoorbeeld mooie waterkers\, winterpostelein bijzondere dennennaalden of klaverzuring. Vervolgens gaan we ergens op een mooi plekje lunchen onder het genot van een goed glas wijn\, een biertje of fris. Laat je smaakpapillen op scherp zetten in deze verrassende workshop van in totaal minimaal 6 uur. \nEn we koken natuurlijk iets gezamenlijks. Geen soepje of iets anders voor de hands liggend maar juist iets dat je niet verwacht. Dus laat je verrassen! \nWaar: Sonsbeekpark in Arnhem en we eindigen in Ressen in de Betuwe\nKosten: €99\,-
URL:https://casaforesta.nl/workshop/wildplukken-op-sterrenniveau-2018-11-04-5-2-2-2-2-2-2-2-2-2-2-2-3
LOCATION:Amsterdam\, Sonsbeekpark in Arnhem en Veluwezoom
ATTACH;FMTTYPE=image/png:https://casaforesta.nl/wp-content/uploads/2018/02/Wildplukken.png
ORGANIZER;CN="Edwin Flores":MAILTO:info@casaforesta.nl
GEO:51.9877;5.9021972
X-APPLE-STRUCTURED-LOCATION;VALUE=URI;X-ADDRESS=Amsterdam Sonsbeekpark in Arnhem en Veluwezoom;X-APPLE-RADIUS=500;X-TITLE=Sonsbeekpark in Arnhem en Veluwezoom:geo:5.9021972,51.9877
END:VEVENT
BEGIN:VEVENT
DTSTART;TZID=UTC:20250223T100000
DTEND;TZID=UTC:20250223T160000
DTSTAMP:20260426T062200
CREATED:20180224T143716Z
LAST-MODIFIED:20241118T101051Z
UID:1041-1740304800-1740326400@casaforesta.nl
SUMMARY:Wildplukken op Sterrenniveau
DESCRIPTION:Ik pluk al jaren wilde kruiden\, bloemen\, bessen en paddenstoelen voor sterrenchefs zoals Ban van Kranen van Flore in Amsterdam en Joris Bijdendijk (Rijks) en vele anderen. Graag deel ik mijn kennis van o.a. de producten die ik voor deze topchefs pluk. \nGa je mee daslook plukken? Deze plant prijkt steeds vaker op de menukaart.. En welke prachtige bloemen blijken gewoon eetbaar? Fantastisch kleurrijk op je bord\, een lust voor oog en mond. Welke plant geeft dat bittertje\, dat zoetje? Verrassend; een plantje dat smaakt naar een Granny Smith\, of naar wasabi. De natuur geeft ons zoveel mooie producten om mee te werken! \nWat is er in het seizoen? Welke eetbare planten neem je mee naar je keuken om er heerlijke gerechten mee te maken? Hoe maak je een siroop van..? Hoe prepareer je je gevonden planten\, knoppen en wortels? Welke boeken zijn het beste voor het determineren?\nWat zijn de gevaren? \nEerst maken we een prachtige wandeling\, en gaan we op zoek naar culinaire wildpluk die sterrenchefs gebruiken. Bijvoorbeeld mooie waterkers\, bijzondere dennennaalden of klaverzuring. Vervolgens gaan we ergens op een mooi plekje lunchen onder het genot van een goed glas wijn\, een biertje of fris. Laat je smaakpapillen op scherp zetten in deze verrassende workshop van in totaal minimaal 6 uur. \nWaar: Sonsbeekpark in Arnhem\nKosten: €99\,-
URL:https://casaforesta.nl/workshop/wildplukken-op-sterrenniveau-2018-11-04-5-2-2-2-2-2-2-2-2-2-2-2-2-2-3
LOCATION:Ressen\, 't Laantje 6\, Ressen\, Gelderland\, Nederland
ATTACH;FMTTYPE=image/png:https://casaforesta.nl/wp-content/uploads/2018/02/Wildplukken.png
ORGANIZER;CN="Edwin Flores":MAILTO:info@casaforesta.nl
GEO:51.8924782;5.8684673
X-APPLE-STRUCTURED-LOCATION;VALUE=URI;X-ADDRESS=Ressen 't Laantje 6 Ressen Gelderland Nederland;X-APPLE-RADIUS=500;X-TITLE='t Laantje 6:geo:5.8684673,51.8924782
END:VEVENT
END:VCALENDAR