BEGIN:VCALENDAR
VERSION:2.0
PRODID:-//Casa Foresta - ECPv6.15.20//NONSGML v1.0//EN
CALSCALE:GREGORIAN
METHOD:PUBLISH
X-WR-CALNAME:Casa Foresta
X-ORIGINAL-URL:https://casaforesta.nl
X-WR-CALDESC:Evenementen voor Casa Foresta
REFRESH-INTERVAL;VALUE=DURATION:PT1H
X-Robots-Tag:noindex
X-PUBLISHED-TTL:PT1H
BEGIN:VTIMEZONE
TZID:UTC
BEGIN:STANDARD
TZOFFSETFROM:+0000
TZOFFSETTO:+0000
TZNAME:UTC
DTSTART:20250101T000000
END:STANDARD
END:VTIMEZONE
BEGIN:VEVENT
DTSTART;TZID=UTC:20260927T100000
DTEND;TZID=UTC:20260927T150000
DTSTAMP:20260425T171419
CREATED:20250519T193341Z
LAST-MODIFIED:20260201T133304Z
UID:3734-1790503200-1790521200@casaforesta.nl
SUMMARY:Wildpluk&Eetbare Paddenstoelen
DESCRIPTION:Combi Wildpluk & Paddenstoelen zoeken \nEen prachtige combinatie wandeling van eetbare wildpluk en wilde paddenstoelen! \nIeder seizoen geeft zijn eigen prachtige eetbare\, smakelijke paddenstoelen. Hun namen spreken tot onze verbeelding. Zo geeft het voorjaar ons morieljes\, terwijl je in de zomer misschien eekhoorntjesbrood kunt vinden. En in de herfst\, en in de winter\, kun je op zoek naar oesterzwammen\, fluweelpootjes en soms zelfs de witte kluifzwam. \nWij nemen je mee op ontdekkingstocht naar paddenstoelen en leren je de fijne kneepjes van het determineren. We maken een prachtige wandeling door verschillende landschappen en komen op bijzondere locaties. Het is een geruisloze jacht\, waarbij het niet gaat om de kilo’s paddenstoelen\, maar om de kennisoverdracht en de beleving. \nWat je leert:\n▪ het landschap lezen\, zodat je weet welke wildpluk je waar kunt verwachten\n▪ hoe determineer je paddenstoelen?\n▪ waar vind je ze?\n▪ wat zijn de gevaren\, wat de fabeltjes?\n▪ waarom is het best wel eenvoudig? \nLeer het allemaal tijdens deze prachtige workshop van ongeveer 5 uur. Na afloop kun je minstens vijf eetbare paddenstoelen determineren\, en weet je wanneer en waar je ze kunt vinden. Ik vertel tijdens de hunt alles over het lezen van het landschap\, wat je waar kan verwachten aan eetbare zaken uit de natuur. Dat gaat verder dan alleen paddenstoelen; denk aan eetbare planten\, noten en vruchten. Een heerlijke maaltijd is inbegrepen\, een bijzondere ervaring onder het genot van een biertje\, wijn of fris. Laat je verrassen! \nWaar: Arnhem\nKosten: €99\,-
URL:https://casaforesta.nl/workshop/wildplukeetbare-paddenstoelen-19
LOCATION:Ressen\, 't Laantje 6\, Ressen\, Gelderland\, Nederland
ATTACH;FMTTYPE=image/png:https://casaforesta.nl/wp-content/uploads/2018/02/Paddenstoelen-zoeken.png
ORGANIZER;CN="Edwin Flores":MAILTO:info@casaforesta.nl
GEO:51.8924782;5.8684673
X-APPLE-STRUCTURED-LOCATION;VALUE=URI;X-ADDRESS=Ressen 't Laantje 6 Ressen Gelderland Nederland;X-APPLE-RADIUS=500;X-TITLE='t Laantje 6:geo:5.8684673,51.8924782
END:VEVENT
BEGIN:VEVENT
DTSTART;TZID=UTC:20261004T100000
DTEND;TZID=UTC:20261004T150000
DTSTAMP:20260425T171419
CREATED:20250911T183642Z
LAST-MODIFIED:20260201T134151Z
UID:3903-1791108000-1791126000@casaforesta.nl
SUMMARY:Wildpluk&Eetbare Paddenstoelen
DESCRIPTION:Combi Wildpluk & Paddenstoelen zoeken  \nEen prachtige combinatie wandeling van eetbare wildpluk en wilde paddenstoelen! \nIeder seizoen geeft zijn eigen prachtige eetbare\, smakelijke paddenstoelen. Hun namen spreken tot onze verbeelding. Zo geeft het voorjaar ons morieljes\, terwijl je in de zomer misschien eekhoorntjesbrood kunt vinden. En in de herfst\, en in de winter\, kun je op zoek naar oesterzwammen\, fluweelpootjes en soms zelfs de witte kluifzwam. \nWij nemen je mee op ontdekkingstocht naar paddenstoelen en leren je de fijne kneepjes van het determineren. We maken een prachtige wandeling door verschillende landschappen en komen op bijzondere locaties. Het is een geruisloze jacht\, waarbij het niet gaat om de kilo’s paddenstoelen\, maar om de kennisoverdracht en de beleving. \nWat je leert:\n▪ het landschap lezen\, zodat je weet welke wildpluk je waar kunt verwachten\n▪ hoe determineer je paddenstoelen?\n▪ waar vind je ze?\n▪ wat zijn de gevaren\, wat de fabeltjes?\n▪ waarom is het best wel eenvoudig? \nLeer het allemaal tijdens deze prachtige workshop van ongeveer 5 uur. Na afloop kun je minstens vijf eetbare paddenstoelen determineren\, en weet je wanneer en waar je ze kunt vinden. Ik vertel tijdens de hunt alles over het lezen van het landschap\, wat je waar kan verwachten aan eetbare zaken uit de natuur. Dat gaat verder dan alleen paddenstoelen; denk aan eetbare planten\, noten en vruchten. Inclusief een lunch! \nLaat je verrassen! \nWaar: Arnhem\nKosten: €99\,-
URL:https://casaforesta.nl/workshop/wildplukeetbare-paddenstoelen-23
LOCATION:Ressen\, 't Laantje 6\, Ressen\, Gelderland\, Nederland
ATTACH;FMTTYPE=image/png:https://casaforesta.nl/wp-content/uploads/2018/02/Paddenstoelen-zoeken.png
ORGANIZER;CN="Edwin Flores":MAILTO:info@casaforesta.nl
GEO:51.8924782;5.8684673
X-APPLE-STRUCTURED-LOCATION;VALUE=URI;X-ADDRESS=Ressen 't Laantje 6 Ressen Gelderland Nederland;X-APPLE-RADIUS=500;X-TITLE='t Laantje 6:geo:5.8684673,51.8924782
END:VEVENT
END:VCALENDAR