BEGIN:VCALENDAR
VERSION:2.0
PRODID:-//Casa Foresta - ECPv6.15.20//NONSGML v1.0//EN
CALSCALE:GREGORIAN
METHOD:PUBLISH
X-ORIGINAL-URL:https://casaforesta.nl
X-WR-CALDESC:Evenementen voor Casa Foresta
REFRESH-INTERVAL;VALUE=DURATION:PT1H
X-Robots-Tag:noindex
X-PUBLISHED-TTL:PT1H
BEGIN:VTIMEZONE
TZID:UTC
BEGIN:STANDARD
TZOFFSETFROM:+0000
TZOFFSETTO:+0000
TZNAME:UTC
DTSTART:20250101T000000
END:STANDARD
END:VTIMEZONE
BEGIN:VEVENT
DTSTART;TZID=UTC:20260228T100000
DTEND;TZID=UTC:20260228T150000
DTSTAMP:20260425T010256
CREATED:20250424T105204Z
LAST-MODIFIED:20251026T153316Z
UID:3679-1772272800-1772290800@casaforesta.nl
SUMMARY:Wildplukken op Sterren Niveau
DESCRIPTION:Ik pluk al jaren wilde kruiden\, bloemen\, bessen en paddenstoelen voor sterrenchefs zoals Bas van Kranen van Flore \, Joris Bijdendijk (Rijks) en vele anderen. Graag deel ik mijn kennis van o.a. de producten die ik voor deze topchefs pluk. \nGa je mee daslook plukken? Deze plant prijkt steeds vaker op de menukaart.. En welke prachtige bloemen blijken gewoon eetbaar? Fantastisch kleurrijk op je bord\, een lust voor oog en mond. Welke plant geeft dat bittertje\, dat zoetje? Verrassend; een plantje dat smaakt naar een Granny Smith\, of naar wasabi. De natuur geeft ons zoveel mooie producten om mee te werken! \nWat is er in het seizoen? Welke eetbare planten neem je mee naar je keuken om er heerlijke gerechten mee te maken? Hoe maak je een siroop van..? Hoe prepareer je je gevonden planten\, knoppen en wortels? Welke boeken zijn het beste voor het determineren?\nWat zijn de gevaren? \nWe maken een prachtige wandeling\, en gaan we op zoek naar culinaire wildpluk die sterrenchefs gebruiken. Bijvoorbeeld mooie waterkers\, bijzondere dennennaalden of klaverzuring.  Laat je smaakpapillen op scherp zetten in deze verrassende workshop van in totaal 5 uur. \nInclusief een heerlijke lunch. \nWaar: Sonsbeekpark in Arnhem\nKosten: €99\,-
URL:https://casaforesta.nl/workshop/wildplukken-op-sterren-niveau-boek
LOCATION:Ressen\, 't Laantje 6\, Ressen\, Gelderland\, Nederland
ATTACH;FMTTYPE=image/png:https://casaforesta.nl/wp-content/uploads/2018/02/Wildplukken.png
ORGANIZER;CN="Edwin Flores":MAILTO:info@casaforesta.nl
GEO:51.8924782;5.8684673
X-APPLE-STRUCTURED-LOCATION;VALUE=URI;X-ADDRESS=Ressen 't Laantje 6 Ressen Gelderland Nederland;X-APPLE-RADIUS=500;X-TITLE='t Laantje 6:geo:5.8684673,51.8924782
END:VEVENT
END:VCALENDAR